BEGIN:VCALENDAR
PRODID:-//eluceo/ical//2.0/EN
VERSION:2.0
CALSCALE:GREGORIAN
BEGIN:VEVENT
UID:event-195
DTSTAMP:20260424T132507Z
SUMMARY:DV Dies & Alumni Event
DESCRIPTION:Dispuut Verkeer is turning 36! Join us for in celebrating our a
 ssociation on May 11th\, from 18:30 at Vakwerkhuis Delft! The DV Dies will
  also be this year's dedicated alumni event\, so if you are a Dispuut Verk
 eer Alumni\, you are especially welcome to join! This is an excellent opp
 ortunity to connect with current and past members of Dispuut Verkeer\, as
  well as teaching staff in a laid-back atmosphere. During the event\, free
  drinks and borrelhapjes will be provided as long as supply lasts! We look
  forward to seeing you there!
DTSTART:20260511T163000Z
DTEND:20260511T193000Z
LOCATION:Vakwerkhuis Delft
END:VEVENT
BEGIN:VTIMEZONE
TZID:UTC
BEGIN:STANDARD
DTSTART:20260511T163000
TZNAME:UTC
TZOFFSETTO:+0000
TZOFFSETFROM:+0000
END:STANDARD
END:VTIMEZONE
END:VCALENDAR
